BEGIN:VCALENDAR
VERSION:2.0
PRODID:icalendar-ruby
CALSCALE:GREGORIAN
METHOD:PUBLISH
BEGIN:VEVENT
DTSTAMP:20260421T170028Z
UID:12-267097@cotrdeming.org
DTSTART:20260820T003000Z
DTEND:20260820T013000Z
CLASS:PUBLIC
CREATED:20260421T090709
DESCRIPTION:Midweek Service
LAST-MODIFIED:20260421T090709
LOCATION:CHURCH ON THE ROCK
SUMMARY:Midweek Service
URL;VALUE=URI:https://cotrdeming.org/events/midweek-service/2026-08-19
END:VEVENT
END:VCALENDAR
