BEGIN:VCALENDAR
VERSION:2.0
PRODID:icalendar-ruby
CALSCALE:GREGORIAN
METHOD:PUBLISH
BEGIN:VEVENT
DTSTAMP:20260423T131756Z
UID:12-268292@cotrdeming.org
DTSTART:20261001T003000Z
DTEND:20261001T013000Z
CLASS:PUBLIC
CREATED:20260423T065020
DESCRIPTION:Midweek Service
LAST-MODIFIED:20260423T065020
LOCATION:CHURCH ON THE ROCK
SUMMARY:Midweek Service
URL;VALUE=URI:https://cotrdeming.org/events/midweek-service/2026-09-30
END:VEVENT
END:VCALENDAR
