BEGIN:VCALENDAR
VERSION:2.0
PRODID:icalendar-ruby
CALSCALE:GREGORIAN
METHOD:PUBLISH
BEGIN:VEVENT
DTSTAMP:20260423T145355Z
UID:12-268293@cotrdeming.org
DTSTART:20261008T003000Z
DTEND:20261008T013000Z
CLASS:PUBLIC
CREATED:20260423T065020
DESCRIPTION:Midweek Service
LAST-MODIFIED:20260423T065020
LOCATION:CHURCH ON THE ROCK
SUMMARY:Midweek Service
URL;VALUE=URI:https://cotrdeming.org/events/midweek-service/2026-10-07
END:VEVENT
END:VCALENDAR
