BEGIN:VCALENDAR
VERSION:2.0
PRODID:icalendar-ruby
CALSCALE:GREGORIAN
METHOD:PUBLISH
BEGIN:VEVENT
DTSTAMP:20260423T204343Z
UID:12-268515@cotrdeming.org
DTSTART:20261105T013000Z
DTEND:20261105T023000Z
CLASS:PUBLIC
CREATED:20260423T123945
DESCRIPTION:Midweek Service
LAST-MODIFIED:20260423T123945
LOCATION:CHURCH ON THE ROCK
SUMMARY:Midweek Service
URL;VALUE=URI:https://cotrdeming.org/events/midweek-service/2026-11-04
END:VEVENT
END:VCALENDAR
