BEGIN:VCALENDAR
VERSION:2.0
PRODID:icalendar-ruby
CALSCALE:GREGORIAN
METHOD:PUBLISH
BEGIN:VEVENT
DTSTAMP:20260421T164317Z
UID:8-267042@cotrdeming.org
DTSTART:20260809T160000Z
DTEND:20260809T170000Z
CLASS:PUBLIC
CREATED:20260421T090709
DESCRIPTION:Sunday Service
LAST-MODIFIED:20260421T090709
LOCATION:CHURCH ON THE ROCK
SUMMARY:Sunday Service
URL;VALUE=URI:https://cotrdeming.org/events/sunday-service/2026-08-09
END:VEVENT
END:VCALENDAR
