BEGIN:VCALENDAR
VERSION:2.0
PRODID:icalendar-ruby
CALSCALE:GREGORIAN
METHOD:PUBLISH
BEGIN:VEVENT
DTSTAMP:20260423T123533Z
UID:8-268125@cotrdeming.org
DTSTART:20260830T160000Z
DTEND:20260830T170000Z
CLASS:PUBLIC
CREATED:20260422T212002
DESCRIPTION:Sunday Service
LAST-MODIFIED:20260422T212002
LOCATION:CHURCH ON THE ROCK
SUMMARY:Sunday Service
URL;VALUE=URI:https://cotrdeming.org/events/sunday-service/2026-08-30
END:VEVENT
END:VCALENDAR
