BEGIN:VCALENDAR
VERSION:2.0
PRODID:icalendar-ruby
CALSCALE:GREGORIAN
METHOD:PUBLISH
BEGIN:VEVENT
DTSTAMP:20260423T192028Z
UID:8-268459@cotrdeming.org
DTSTART:20261018T160000Z
DTEND:20261018T170000Z
CLASS:PUBLIC
CREATED:20260423T123945
DESCRIPTION:Sunday Service
LAST-MODIFIED:20260423T123945
LOCATION:CHURCH ON THE ROCK
SUMMARY:Sunday Service
URL;VALUE=URI:https://cotrdeming.org/events/sunday-service/2026-10-18
END:VEVENT
END:VCALENDAR
